BEGIN:VCALENDAR
VERSION:2.0
PRODID:icalendar-ruby
CALSCALE:GREGORIAN
METHOD:PUBLISH
BEGIN:VEVENT
DTSTAMP:20260423T120419Z
UID:35-502596@fumcdeming.org
DTSTART:20261101T160000Z
DTEND:20261101T170000Z
CLASS:PUBLIC
CREATED:20260422T210955
DESCRIPTION:
LAST-MODIFIED:20260422T210955
LOCATION:Sanctuary
SUMMARY:Sunday Morning Worship
URL;VALUE=URI:https://fumcdeming.org/events/sunday-morning-worship/2026-11-
 01
ATTACH;FILENAME=sunday.png;FMTTYPE=image/png:https://dq5pwpg1q8ru0.cloudfro
 nt.net/2025/06/09/22/10/51/9e02a2a9-dbb6-4538-9f06-496f1c101637/sunday.png
END:VEVENT
END:VCALENDAR
