BEGIN:VCALENDAR
VERSION:2.0
PRODID:icalendar-ruby
CALSCALE:GREGORIAN
METHOD:PUBLISH
BEGIN:VEVENT
DTSTAMP:20260423T110719Z
UID:79-497048@fumcdeming.org
DTSTART:20260425T140000Z
DTEND:20260425T200000Z
CLASS:PUBLIC
CREATED:20260420T164059
DESCRIPTION:Come on out and support the Deming Wildcate High School Band wh
 o are putting on this rummage sale to raise money for their program. It's 
 never too early to start shopping for upcoming holidays.
LAST-MODIFIED:20260420T164059
LOCATION:North Parking Lot
SUMMARY:Wildcat HS Band Benefit Rummage Sale
URL;VALUE=URI:https://fumcdeming.org/events/wildcat-hs-band-benefit-rummage
 -sale/2026-04-25
ATTACH;FILENAME=rummage.png;FMTTYPE=image/png:https://dq5pwpg1q8ru0.cloudfr
 ont.net/2026/04/20/22/40/58/127c4f2e-dd7e-483b-88d7-98097fe67702/rummage.p
 ng
END:VEVENT
END:VCALENDAR
